Workbook

Sheet Budget
A2: Rackenford & Creacombe Parish Council Budget 2023/2024
A3: 2021/2022 | B3: 2022/2023 Revised Estimate | G3: 2023/2024 Draft Budget
A4: Outturn | B4: Description | C4: Budget | D4: To Date | E4: Revised Budget | G4: 2023-24 Draft Budget | H4: Change fron 2022-23
A5: £ | C5: £ | D5: £ | E5: £ | G5: £ | H5: £
A6: 8700 | B6: Precept | C6: 13300 | D6: 13300 | E6: 13300 | G6: 14680 | H6: =+G6-C6 -> 1380 | I6: The assumption is that the precept is a standstill for ongoing expenditure
A7: 545 | B7: Grants | C7: 0 | D7: 700 | E7: 700 | G7: 0 | H7: =+G7-C7 -> 0
A8: 2185.08 | B8: DAA Lighting Donations | C8: 0 | D8: 0 | E8: 0 | G8: 0 | H8: =+G8-C8 -> 0
A9: 0 | B9: Community Building Donations | C9: 0 | D9: 0 | E9: 0 | G9: 0 | H9: =+G9-C9 -> 0
A10: 0 | B10: Jubilee Event Income | C10: 0 | D10: 4600 | E10: 4600 | G10: 0 | H10: =+G10-C10 -> 0 | I10: Payment from Shop
A11: 0 | B11: PROW P3 Grant | C11: 0 | D11: 0 | E11: 0 | G11: 500 | H11: =+G11-C11 -> 500 | I11: Asssuming some P3 work is bid for next year. Matched by increase in expenditure
A12: 205.12 | B12: Interest & Other Income | C12: 400 | D12: 0 | E12: 0 | G12: 400 | H12: =+G12-C12 -> 0
A13: 11635.2 | B13: Budgeted Receipts | C13: =SUM(C6:C12) -> 13700 | D13: =SUM(D6:D12) -> 18600 | E13: =SUM(E6:E12) -> 18600 | G13: =SUM(G6:G12) -> 15580 | H13: =SUM(H6:H12) -> 1880
A14: 14093.08 | B14: VAT Refund | C14: 0 | D14: 638.68 | E14: 1000 | G14: 0 | H14: =+G14-C14 -> 0
A15: =SUM(A13:A14) -> 25728.28 | B15: Total Receipts | C15: =SUM(C13:C14) -> 13700 | D15: =SUM(D13:D14) -> 19238.68 | E15: =SUM(E13:E14) -> 19600 | G15: =SUM(G13:G14) -> 15580 | H15: =SUM(H13:H14) -> 1880
A17: 2145 | B17: Common Maintenance | C17: 3570 | D17: 0 | E17: 3570 | G17: 4000 | H17: =+G17-C17 -> 430 | I17: The budget includes inflation caused by fuel and labour costs
A18: 0 | B18: Grass Mowing | C18: 300 | D18: 0 | E18: 300 | G18: 300 | H18: =+G18-C18 -> 0 | I18: What is this for?
A19: 142 | B19: Playground Inspection | C19: 80 | D19: 101.85 | E19: 101.85 | G19: 120 | H19: =+G19-C19 -> 40 | I19: This year £102, assume up to £120 next year.
A20: 12700 | B20: Common Playground Project | C20: 0 | D20: 810 | E20: 810 | G20: 0 | H20: =+G20-C20 -> 0 | I20: 2022/23 is for benches
A21: 0 | B21: Common Community Building | C21: 0 | D21: 0 | E21: 0 | G21: 0 | H21: =+G21-C21 -> 0
A22: 700 | B22: Hard Court maintenance | C22: 400 | D22: 0 | E22: 400 | G22: 400 | H22: =+G22-C22 -> 0
A23: 960 | B23: Salt spreading / snow ploughing | C23: 2000 | D23: 405 | E23: 405 | G23: 2000 | H23: =+G23-C23 -> 0
A24: 36.5 | B24: Trinity Well | C24: 200 | D24: 175 | E24: 175 | G24: 200 | H24: =+G24-C24 -> 0
A25: 450 | B25: Audit fees | C25: 450 | D25: 382.87 | E25: 382.87 | G25: 450 | H25: =+G25-C25 -> 0
A26: 3942.37 | B26: Clerk Salary | C26: 4000 | D26: 2336.68 | E26: 4326 | G26: 4585 | H26: =+G26-C26 -> 585
A27: 129.15 | B27: Clerk Expenses | C27: 150 | D27: 115.25 | E27: 150 | G27: 150 | H27: =+G27-C27 -> 0
A28: 166.83 | B28: Website & IT services | C28: 630 | D28: 0 | E28: 0 | G28: 200 | H28: =+G28-C28 -> -430
A29: 795.38 | B29: Insurance | C29: 800 | D29: 888.56 | E29: 888.56 | G29: 1000 | H29: =+G29-C29 -> 200
A30: 12 | B30: School Room hire | C30: 100 | D30: 0 | E30: 100 | G30: 100 | H30: =+G30-C30 -> 0
A31: 116 | B31: Memberships/subscriptions | C31: 150 | D31: 163.99 | E31: 163.99 | G31: 175 | H31: =+G31-C31 -> 25
A32: 0 | B32: Election | C32: 0 | E32: 0 | G32: 1000 | H32: =+G32-C32 -> 1000 | I32: May 2023 election will result in some expenditure, even if there is no contesr
A33: 6401.47 | B33: Air Ambulance Landing Lights | C33: 100 | D33: 0 | E33: 0 | G33: 100 | H33: =+G33-C33 -> 0
A34: 0 | B34: Jubilee Event Expenditure | C34: 0 | D34: 2412.0967 | E34: 2412.0967 | G34: 0 | H34: =+G34-C34 -> 0 | I34: £4,600.00 income less £2,412.10 expenditure = £2,187.90, as per Financial Statement
A35: 0 | B35: PROW Expenditure | C35: 0 | D35: 500.83 | E35: 500.83 | G35: 500 | H35: =+G35-C35 -> 500 | I35: Strimmer Purchase 22/23. Other PROW work 23/24 matched by assumed income
A36: 0 | B36: Defibrillator | C36: 0 | E36: 0 | G36: 1800 | H36: =+G36-C36 -> 1800 | I36: Renewal of Defibrillator contract
A37: 65 | B37: Non Section 137 Grants & Other | C37: 270 | D37: 0 | E37: 270 | G37: 300 | H37: =+G37-C37 -> 30
A38: 0 | B38: S137 grants & other | C38: 500 | D38: 0 | E38: 500 | G38: 500 | H38: =+G38-C38 -> 0
A39: =SUM(A17:A38) -> 28761.7 | B39: Budgeted Payments | C39: =SUM(C17:C38) -> 13700 | D39: =SUM(D17:D38) -> 8292.1267 | E39: =SUM(E17:E38) -> 15456.197 | G39: =SUM(G17:G38) -> 17880 | H39: =SUM(H17:H38) -> 4180
A40: 4512.04 | B40: VAT Expenditure | C40: 0 | D40: 501.12333 | E40: 1000 | G40: 0 | H40: =+G40-C40 -> 0
A41: =SUM(A39:A40) -> 33273.74 | B41: Total Payments | C41: =SUM(C39:C40) -> 13700 | D41: =SUM(D39:D40) -> 8793.25 | E41: =SUM(E39:E40) -> 16456.197 | G41: =SUM(G39:G40) -> 17880 | H41: =SUM(H39:H40) -> 4180
A43: =+A41-A15 -> 7545.46 | B43: Total Net Payments/(Receipts) | C43: =+C41-C15 -> 0 | D43: =+D41-D15 -> -10445.43 | E43: =+E41-E15 -> -3143.8033 | G43: =+G41-G15 -> 2300
...

Sheet Reserves
A2: RACKENFORD PARISH COUNCIL
A4: Reserves Balances
A5: BUDGET PREDICTIONS
A7: Description | B7: Balance 31st March 2022 | C7: Budget Transfer | D7: Income | E7: Expenditure | F7: Balance 31st March 2023 | G7: Budget Transfer | H7: Income | I7: Expenditure | J7: Balance 31st March 2024
B8: £ | C8: £ | D8: £ | E8: £ | F8: £ | G8: £ | H8: £ | I8: £ | J8: £
A10: Earmarked Reserves
A11: Car Parking and Path | B11: 0 | C11: =-B11 -> 0 | D11: 0 | E11: 0 | F11: =+B11+C11-E11+D11 -> 0 | G11: =-F11 -> 0 | H11: 0 | I11: 0 | J11: =+F11+G11-I11+H11 -> 0
A12: Hard Court | B12: 10133.56 | C12: 0 | D12: 0 | E12: 0 | F12: =+B12+C12-E12+D12 -> 10133.56 | G12: 0 | H12: 0 | I12: 0 | J12: =+F12+G12-I12+H12 -> 10133.56 | L12: Fixed sum for a number of years
A13: Soft Play Area | B13: 0 | C13: =-B13 -> 0 | D13: 0 | E13: 0 | F13: =+B13+C13-E13+D13 -> 0 | G13: =-F13 -> 0 | H13: 0 | I13: 0 | J13: =+F13+G13-I13+H13 -> 0
A14: P3 | B14: 0 | C14: =-B14 -> 0 | D14: 0 | E14: 0 | F14: =+B14+C14-E14+D14 -> 0 | G14: =-F14 -> 0 | H14: 0 | I14: 0 | J14: =+F14+G14-I14+H14 -> 0
A15: Defibrillator | B15: 0 | C15: =-B15 -> 0 | D15: 0 | E15: 0 | F15: =+B15+C15-E15+D15 -> 0 | G15: =-F15 -> 0 | H15: 0 | I15: 0 | J15: =+F15+G15-I15+H15 -> 0
A16: Common maintenance | B16: 0 | C16: =-B16 -> 0 | D16: 0 | E16: 0 | F16: =+B16+C16-E16+D16 -> 0 | G16: =-F16 -> 0 | H16: 0 | I16: 0 | J16: =+F16+G16-I16+H16 -> 0
A17: Computer Replacement | B17: 204.89 | C17: -204.89 | D17: 0 | E17: 0 | F17: =+B17+C17-E17+D17 -> 0 | G17: 0 | H17: 0 | I17: 0 | J17: =+F17+G17-I17+H17 -> 0 | L17: Remainder from purchase of computer
A18: Snow Warden | B18: 0 | C18: =-B18 -> 0 | D18: 0 | E18: 0 | F18: =+B18+C18-E18+D18 -> 0 | G18: =-F18 -> 0 | H18: 0 | I18: 0 | J18: =+F18+G18-I18+H18 -> 0
A19: Defibrillator | B19: 0 | C19: 1400 | D19: 0 | E19: 0 | F19: =+B19+C19-E19+D19 -> 1400 | G19: 500 | H19: 0 | I19: 1800 | J19: =+F19+G19-I19+H19 -> 100 | L19: See report on defibrillator - £500 pa
A20: DAA Grant | B20: 0 | C20: 0 | D20: 0 | E20: 0 | F20: =+B20+C20-E20+D20 -> 0 | G20: 0 | H20: 0 | I20: 0 | J20: =+F20+G20-I20+H20 -> 0
A21: DAA Donations | B21: 100.13 | C21: -100.13 | D21: 0 | E21: 0 | F21: =+B21+C21-E21+D21 -> 0 | G21: 0 | H21: 0 | I21: 0 | J21: =+F21+G21-I21+H21 -> 0 | L21: Balance of fundraising
A22: DCF grant for new playground | B22: 3515 | C22: 0 | D22: 0 | E22: 3515 | F22: =+B22+C22-E22+D22 -> 0 | G22: 0 | H22: 0 | I22: 0 | J22: =+F22+G22-I22+H22 -> 0 | L22: Completed
A23: Winter Maintenance | B23: 0 | C23: 1595 | D23: 0 | E23: 0 | F23: =+B23+C23-E23+D23 -> 1595 | G23: 0 | J23: =+F23+G23-I23+H23 -> 1595 | L23: Budget increased to £2,000, £405 spent in 2022/2023
A24: Jubilee Event | B24: 0 | D24: =+Budget!D10 -> 4600 | E24: =+Budget!D34 -> 2412.0967 | F24: =+B24+C24-E24+D24 -> 2187.9033 | G24: 0 | H24: 0 | I24: 0 | J24: =+F24+G24-I24+H24 -> 2187.9033 | L24: Balance of inocme raised. What to be used for?
A25: Community Building | B25: 5000 | C25: 0 | D25: 0 | E25: 0 | F25: =+B25+C25-E25+D25 -> 5000 | G25: 0 | H25: 0 | I25: 0 | J25: =+F25+G25-I25+H25 -> 5000 | L25: Donation from Shop. What to be used for?
A27: General Reserve | B27: 12867.99 | C27: =-SUM(C10:C26) -> -2689.98 | D27: =+Budget!E15-SUM(D12:D25) -> 15000 | E27: =+Budget!E41-SUM(E12:E25) -> 10529.1 | F27: =+F29-SUM(F10:F25) -> 14648.91 | G27: =-SUM(G10:G26) -> -500 | H27: =+Budget!G15-SUM(H12:H25) -> 15580 | I27: =+Budget!G41-SUM(I12:I25) -> 16080 | J27: =+J29-SUM(J10:J25) -> 13648.91 | L27: As general support for unseen matters. Roughly equivalent to a year's precept
A29: Total Reserves | B29: =SUM(B10:B28) -> 31821.57 | C29: =SUM(C10:C27) -> 0 | D29: =SUM(D10:D27) -> 19600 | E29: =SUM(E10:E27) -> 16456.197 | F29: =+Budget!E50 -> 34965.373 | G29: =SUM(G10:G27) -> 0 | H29: =SUM(H10:H27) -> 15580 | I29: =SUM(I10:I27) -> 17880 | J29: =+Budget!G50 -> 32665.373
